BEGIN:VCALENDAR
VERSION:2.0
PRODID:-//Milchwerk Radolfzell - ECPv6.15.18//NONSGML v1.0//EN
CALSCALE:GREGORIAN
METHOD:PUBLISH
X-WR-CALNAME:Milchwerk Radolfzell
X-ORIGINAL-URL:https://milchwerk-radolfzell.de
X-WR-CALDESC:Veranstaltungen für Milchwerk Radolfzell
REFRESH-INTERVAL;VALUE=DURATION:PT1H
X-Robots-Tag:noindex
X-PUBLISHED-TTL:PT1H
BEGIN:VTIMEZONE
TZID:Europe/Berlin
BEGIN:DAYLIGHT
TZOFFSETFROM:+0100
TZOFFSETTO:+0200
TZNAME:CEST
DTSTART:20240331T010000
END:DAYLIGHT
BEGIN:STANDARD
TZOFFSETFROM:+0200
TZOFFSETTO:+0100
TZNAME:CET
DTSTART:20241027T010000
END:STANDARD
BEGIN:DAYLIGHT
TZOFFSETFROM:+0100
TZOFFSETTO:+0200
TZNAME:CEST
DTSTART:20250330T010000
END:DAYLIGHT
BEGIN:STANDARD
TZOFFSETFROM:+0200
TZOFFSETTO:+0100
TZNAME:CET
DTSTART:20251026T010000
END:STANDARD
BEGIN:DAYLIGHT
TZOFFSETFROM:+0100
TZOFFSETTO:+0200
TZNAME:CEST
DTSTART:20260329T010000
END:DAYLIGHT
BEGIN:STANDARD
TZOFFSETFROM:+0200
TZOFFSETTO:+0100
TZNAME:CET
DTSTART:20261025T010000
END:STANDARD
BEGIN:DAYLIGHT
TZOFFSETFROM:+0100
TZOFFSETTO:+0200
TZNAME:CEST
DTSTART:20270328T010000
END:DAYLIGHT
BEGIN:STANDARD
TZOFFSETFROM:+0200
TZOFFSETTO:+0100
TZNAME:CET
DTSTART:20271031T010000
END:STANDARD
END:VTIMEZONE
BEGIN:VEVENT
DTSTART;TZID=Europe/Berlin:20260317T190000
DTEND;TZID=Europe/Berlin:20260317T200000
DTSTAMP:20260424T090204
CREATED:20260210T124734Z
LAST-MODIFIED:20260312T131903Z
UID:10000488-1773774000-1773777600@milchwerk-radolfzell.de
SUMMARY:Gold und Silber - Eine historische Chance - der Einstieg lohnt! ABGESAGT
DESCRIPTION:Am 17. März von 19 – 20.00 Uhr findet wieder ein exklusiver „Goldvortrag“ im Milchwerk statt. Rüdiger Marte\, IHK geprüfter Vermögensberater\, bringt Licht ins Dunkel der Investment-Möglichkeit in Gold & Silber. Warum stieg der Goldpreis so und woher kommt die immense plötzliche Nachfrage? Wie wird es wohl weiter gehen und ist es nicht schon längst zu spät\, um in physisches Gold zu investieren? Habe ich den“ Zug“ schon verpasst oder besteht noch Potential in der Zukunft? Falls Sie sich eine dieser Fragen in der letzten Zeit gestellt haben\, ist das nun Ihre Chance auf Klarheit. In einem ca. 60-minütigen Vortrag erfahren Sie alles zum Thema: Gold & Silber. Wir sprechen über die Vergangenheit\, Gegenwart und den Ausblick dieses endlichen Rohstoffes. Gold hat die Menschen schon seit Anbeginn der Zeit fasziniert und es ist noch immer etwas ganz Besonderes. Doch wo geht die Reise noch hin…? \nDer Eintritt ist frei\, eine Platz Reservierung (unter Tel. 077329407100 bzw. per WhatsApp 017670098888) wird dringend empfohlen. \nBildrechte: Rüdiger Marte
URL:https://milchwerk-radolfzell.de/event/gold-und-silber-eine-historische-chance-der-einstieg-lohnt-3/
LOCATION:Milchwerk Radolfzell\, Werner-Messmer-Straße 14\, Radolfzell\, 78315\, Deutschland
CATEGORIES:Vortrag
ATTACH;FMTTYPE=image/png:https://milchwerk-radolfzell.de/wp-content/uploads/2025/12/Bild-Werbung-MW.png
ORGANIZER;CN="R%C3%BCdiger Marte":MAILTO:Ruediger.Marte@dvag.de
END:VEVENT
BEGIN:VEVENT
DTSTART;TZID=Europe/Berlin:20260129T190000
DTEND;TZID=Europe/Berlin:20260129T200000
DTSTAMP:20260424T090204
CREATED:20251203T102848Z
LAST-MODIFIED:20251204T135516Z
UID:10000443-1769713200-1769716800@milchwerk-radolfzell.de
SUMMARY:Gold und Silber - Eine historische Chance - der Einstieg lohnt!
DESCRIPTION:Am 29. Januar von 19 – 20.00 Uhr findet ein exklusiver „Goldvortrag“ im Milchwerk statt. Rüdiger Marte\, IHK geprüfter Vermögensberater\, bringt Licht ins Dunkel der Investment-Möglichkeit in Gold & Silber. Warum stieg der Goldpreis so und woher kommt die immense plötzliche Nachfrage? Wie wird es wohl weiter gehen und ist es nicht schon längst zu spät\, um in physisches Gold zu investieren? Habe ich den“ Zug“ schon verpasst oder besteht noch Potential in der Zukunft? Falls Sie sich eine dieser Fragen in der letzten Zeit gestellt haben\, ist das nun Ihre Chance auf Klarheit. In einem ca. 60-minütigen Vortrag erfahren Sie alles zum Thema: Gold & Silber. Wir sprechen über die Vergangenheit\, Gegenwart und den Ausblick dieses endlichen Rohstoffes. Gold hat die Menschen schon seit Anbeginn der Zeit fasziniert und es ist noch immer etwas ganz Besonderes. Doch wo geht die Reise noch hin…? \nDer Eintritt ist frei\, eine Platz Reservierung (unter Tel. 077329407100 bzw. per WhatsApp 017670098888) wird dringend empfohlen. \nBildrechte: Rüdiger Marte
URL:https://milchwerk-radolfzell.de/event/gold-und-silber-eine-historische-chance-der-einstieg-lohnt-2/
LOCATION:Milchwerk Radolfzell\, Werner-Messmer-Straße 14\, Radolfzell\, 78315\, Deutschland
CATEGORIES:Vortrag
ATTACH;FMTTYPE=image/png:https://milchwerk-radolfzell.de/wp-content/uploads/2025/12/Bild-Werbung-MW.png
ORGANIZER;CN="R%C3%BCdiger Marte":MAILTO:Ruediger.Marte@dvag.de
END:VEVENT
BEGIN:VEVENT
DTSTART;TZID=Europe/Berlin:20251105T190000
DTEND;TZID=Europe/Berlin:20251105T200000
DTSTAMP:20260424T090204
CREATED:20251010T113741Z
LAST-MODIFIED:20251010T113741Z
UID:10000428-1762369200-1762372800@milchwerk-radolfzell.de
SUMMARY:Gold und Silber - Eine historische Chance - der Einstieg lohnt!
DESCRIPTION:Am 05. November von 19 – 20 Uhr findet ein exklusiver „Goldvortrag“ im Milchwerk statt. Erstmals bringt Rüdiger Marte\, IHK geprüfter Vermögensberater\, Licht ins Dunkel der Investment-Möglichkeit in Gold & Silber. Warum stieg der Goldpreis so und woher kommt die immense plötzliche Nachfrage? Wie wird es wohl weiter gehen und ist es nicht schon längst zu spät\, um in physisches Gold zu investieren? Habe ich den“ Zug“ schon verpasst oder besteht noch Potential in der Zukunft? Falls Sie sich eine dieser Fragen in der letzten Zeit gestellt haben\, ist das nun Ihre Chance auf Klarheit. In einem ca. 60-minütigen Vortrag erfahren Sie alles zum Thema: Gold & Silber. Wir sprechen über die Vergangenheit\, Gegenwart und den Ausblick dieses endlichen Rohstoffes. Gold hat die Menschen schon seit Anbeginn der Zeit fasziniert und es ist noch immer etwas ganz Besonderes. Doch wo geht die Reise noch hin…? \nDer Eintritt ist frei\, eine Platz Reservierung (unter Tel. 077329407100 bzw. per WhatsApp 017670098888) wird dringend empfohlen. \n  \nBildrechte: Rüdiger Marte
URL:https://milchwerk-radolfzell.de/event/gold-und-silber-eine-historische-chance-der-einstieg-lohnt/
LOCATION:Milchwerk Radolfzell\, Werner-Messmer-Straße 14\, Radolfzell\, 78315\, Deutschland
CATEGORIES:Vortrag
ATTACH;FMTTYPE=image/png:https://milchwerk-radolfzell.de/wp-content/uploads/2025/10/Einladung-05.11.-im-Milchwerk.png
ORGANIZER;CN="R%C3%BCdiger Marte":MAILTO:Ruediger.Marte@dvag.de
END:VEVENT
END:VCALENDAR