BEGIN:VCALENDAR
VERSION:2.0
PRODID:-//Milchwerk Radolfzell - ECPv6.15.18//NONSGML v1.0//EN
CALSCALE:GREGORIAN
METHOD:PUBLISH
X-WR-CALNAME:Milchwerk Radolfzell
X-ORIGINAL-URL:https://milchwerk-radolfzell.de
X-WR-CALDESC:Veranstaltungen für Milchwerk Radolfzell
REFRESH-INTERVAL;VALUE=DURATION:PT1H
X-Robots-Tag:noindex
X-PUBLISHED-TTL:PT1H
BEGIN:VTIMEZONE
TZID:Europe/Berlin
BEGIN:DAYLIGHT
TZOFFSETFROM:+0100
TZOFFSETTO:+0200
TZNAME:CEST
DTSTART:20250330T010000
END:DAYLIGHT
BEGIN:STANDARD
TZOFFSETFROM:+0200
TZOFFSETTO:+0100
TZNAME:CET
DTSTART:20251026T010000
END:STANDARD
BEGIN:DAYLIGHT
TZOFFSETFROM:+0100
TZOFFSETTO:+0200
TZNAME:CEST
DTSTART:20260329T010000
END:DAYLIGHT
BEGIN:STANDARD
TZOFFSETFROM:+0200
TZOFFSETTO:+0100
TZNAME:CET
DTSTART:20261025T010000
END:STANDARD
BEGIN:DAYLIGHT
TZOFFSETFROM:+0100
TZOFFSETTO:+0200
TZNAME:CEST
DTSTART:20270328T010000
END:DAYLIGHT
BEGIN:STANDARD
TZOFFSETFROM:+0200
TZOFFSETTO:+0100
TZNAME:CET
DTSTART:20271031T010000
END:STANDARD
END:VTIMEZONE
BEGIN:VEVENT
DTSTART;TZID=Europe/Berlin:20261217T200000
DTEND;TZID=Europe/Berlin:20261217T220000
DTSTAMP:20260421T103659
CREATED:20250901T085638Z
LAST-MODIFIED:20260203T101115Z
UID:10000405-1797537600-1797544800@milchwerk-radolfzell.de
SUMMARY:Konstantin Wecker Der Liebe zuliebe – ein literarisch–musikalischer Abend mit dem  Konstantin Wecker Trio - ABGESAGT
DESCRIPTION:Mal streitbar\, mal besinnlich\, mal sanft – immer leidenschaftlich: So kennt und liebt das Publikum den Poeten und Musiker Konstantin Wecker. Er ist nicht nur ein begnadeter Liedermacher\,\nsondern auch eine wichtige Stimme einer ganzen Generation. Ein unbeugsamer Mahner und Kämpfer gegen Krieg und Faschismus. Mit seinen Liedern und Texten tritt er seit vielen\nJahrzehnten ein für Gerechtigkeit und Frieden und ein achtsameres\, liebevolleres Miteinander. \nMit seinem neuen Buch Der Liebe zuliebe (bene! / Droemer Knaur)– zieht Konstantin Wecker die Bilanz seines Lebens. \nDer Liebe zuliebe – ein Buch über eine lebenslange Suche: nach Sinn\, nach dem „mehr als alles“\, nach dem großen Geheimnis\, nach Liebe\, nach Wegen zum inneren und äußeren Frieden. Die Liebe ist für Wecker der Schlüssel dafür\, dass das Leben gelingen kann. Und dass die Welt eine andere\, eine bessere wird. \nKonstantin Wecker klammert in seinem neuen Buch auch die düsteren Zeiten nicht aus: Depression\, Schwermut\, Alkoholsucht\, Drogenrausch\, zahlreiche Abstürze\, Wahnvorstellungen\,\nWut\, Traurigkeit. Er schreibt über eine jahrzehntelange Suche und eine Wende am Abgrund. \nEin bewegendes Buch aus der Feder eines der größten Songpoeten unserer Zeit\, der zehntausenden von Fans immer wieder Mut macht\, an das Gute zu glauben und für das Gute einzutreten. \n„Ich wollte endlich der werden\, den ich in meinen Liedern besinge: der Zärtliche\, der Friedfertige\, der Liebende\, der Hörende. Einer\, der weiß\, was wesentlich ist. \nDas tägliche Meditieren\, die Menschen\, die mich unterstützt haben\, die vielen guten Gespräche\, die Musik\, wunderbare Texte alter Mystiker – sie haben mir gut getan. Ohne die Rückbesinnung auf die Kraft der Spiritualität hätte ich es vermutlich nicht geschafft\, einen neuen Weg einzuschlagen. \nDieses Buch habe ich geschrieben\, um alle\, die mit ähnlichen Problemen und der Frage nach dem Sinn unseres Daseins ringen\, einzuladen\, sich selbst auf den Weg zu einem erfüllteren Leben zu machen. Vielleicht ist dieses Buch im fortgeschrittenen Alter meines irdischen Lebens auch so eine Art erstes Vermächtnis geworden … Nüchtern schaue ich auf den Grund des Seins und habe dabei selbstverständlich Lust und Freude auf Neues und noch so viel mehr. Dankbar habe ich zu Beginn meinem schon lange verstorbenen Vater einen Brief geschrieben.“\nKonstantin Wecker \nMit seinem neuen Bühnenprogramm wird Konstantin Wecker gemeinsam mit Jo Barnikel (Flügel\, Keyboard) und Fany Kammerlander (Cello) sein neues Buch auf spannende Weise mit\nseinem musikalischen Werk verknüpfen und Der Liebe zuliebe zu einem einzigartigen Erlebnis machen; voller Musik\, Poesie\, Mystik – und Liebe. \nBildrechte: Thomas Steinborn \nEinlass 19 Uhr – Genießen Sie schon vor der Veranstaltung gerne ein Getränk an unserer Milchbar \n 
URL:https://milchwerk-radolfzell.de/event/konstantin-wecker-der-liebe-zuliebe-ein-literarisch-musikalischer-abend-mit-dem-konstantin-wecker-trio/
LOCATION:Milchwerk Radolfzell\, Werner-Messmer-Straße 14\, Radolfzell\, 78315\, Deutschland
CATEGORIES:Allgemein,Musical,Musik,Show
ATTACH;FMTTYPE=image/jpeg:https://milchwerk-radolfzell.de/wp-content/uploads/2025/09/Pressefoto_Copyright_Thomas-Steinborn-scaled.jpg
ORGANIZER;CN="msk":MAILTO:info@msk-events.de
END:VEVENT
END:VCALENDAR