BEGIN:VCALENDAR
VERSION:2.0
PRODID:-//Milchwerk Radolfzell - ECPv6.15.18//NONSGML v1.0//EN
CALSCALE:GREGORIAN
METHOD:PUBLISH
X-ORIGINAL-URL:https://milchwerk-radolfzell.de
X-WR-CALDESC:Veranstaltungen für Milchwerk Radolfzell
REFRESH-INTERVAL;VALUE=DURATION:PT1H
X-Robots-Tag:noindex
X-PUBLISHED-TTL:PT1H
BEGIN:VTIMEZONE
TZID:Europe/Berlin
BEGIN:DAYLIGHT
TZOFFSETFROM:+0100
TZOFFSETTO:+0200
TZNAME:CEST
DTSTART:20240331T010000
END:DAYLIGHT
BEGIN:STANDARD
TZOFFSETFROM:+0200
TZOFFSETTO:+0100
TZNAME:CET
DTSTART:20241027T010000
END:STANDARD
BEGIN:DAYLIGHT
TZOFFSETFROM:+0100
TZOFFSETTO:+0200
TZNAME:CEST
DTSTART:20250330T010000
END:DAYLIGHT
BEGIN:STANDARD
TZOFFSETFROM:+0200
TZOFFSETTO:+0100
TZNAME:CET
DTSTART:20251026T010000
END:STANDARD
BEGIN:DAYLIGHT
TZOFFSETFROM:+0100
TZOFFSETTO:+0200
TZNAME:CEST
DTSTART:20260329T010000
END:DAYLIGHT
BEGIN:STANDARD
TZOFFSETFROM:+0200
TZOFFSETTO:+0100
TZNAME:CET
DTSTART:20261025T010000
END:STANDARD
BEGIN:DAYLIGHT
TZOFFSETFROM:+0100
TZOFFSETTO:+0200
TZNAME:CEST
DTSTART:20270328T010000
END:DAYLIGHT
BEGIN:STANDARD
TZOFFSETFROM:+0200
TZOFFSETTO:+0100
TZNAME:CET
DTSTART:20271031T010000
END:STANDARD
END:VTIMEZONE
BEGIN:VEVENT
DTSTART;TZID=Europe/Berlin:20260110T200000
DTEND;TZID=Europe/Berlin:20260110T220000
DTSTAMP:20260424T145059
CREATED:20250902T112132Z
LAST-MODIFIED:20250902T120010Z
UID:10000407-1768075200-1768082400@milchwerk-radolfzell.de
SUMMARY:SARDINIEN – Trauminsel mit Karibikfeeling
DESCRIPTION:LIVE-Panorama-Multivision von Michael Fleck \nTürkisblaues Meer\, einsame Sandstrände\, zerklüftete Felsformationen\, jahrhundertalte Hirtenkultur und steinerne Zeugen der uralten Nuraghenkultur – diese Vielfalt macht Sardinien einzigartig in Europa.\nSie ist voller landschaftlicher Gegensätze und jeder Reisende wird hier seinen Lieblingsort finden. Die Strände sind so zahlreich\, dass man für einen Tag auch mal eine „Privatbucht“ hat. Sport wird auf Sardinien großgeschrieben\, es ist für Outdoorbegeisterte eine perfekte „Spielwiese“. Für Wind- und Kitesurfer bietet die Insel eines der besten Surfreviere im Mittelmeer. Kletterer finden in den steilen Wänden der Ostküste ihre Herausforderung in tausenden Kletterrouten. Wanderer können in die 500 m tiefe Schlucht von Gorroppu laufen und auf einsamen\, naturbelassenen Wegen im Hinterland unterwegs sein.\nZwei Monate im Frühjahr und Spätsommer hat der Reisefotograf und Abenteurer Michael Fleck Sardinen bereist. Brillante Fotografien im 3:1 Panoramaformat und spektakuläre Videosequenzen\, durch den Einsatz von Drohnen\, nehmen den Zuschauer mit auf die Trauminsel.\nIn der lebendigen Hauptstadt Cagliari pulsiert Sardiniens Lebensfreude und einmal im Jahr kommen Trachten- und Folkloregruppen in die Stadt und verwandeln sie in ein buntes Schaulaufen des traditionellen sardischen Brauchtums. Nordwestlich von Cagliari liegt die zauberhafte Costa Verde: wilde Dünenlandschaft\, Sand bis zum Horizont und aufgegebene Bergwerksanlagen. Zwischen den beiden schönsten Städten der Insel\, Bosa und Alghero\, verläuft die reizvollste Küstenstraße Sardiniens. Korallenverarbeitung hat in Alghero eine lange Tradition. In einer kleinen Manufaktur sehen wir\, wie Schmuck und Kunstwerke entstehen. Am Capo Caccia geht es in die Unterwelt\, 650 Stufen führen runter in die Neptungrotte. Castelsardo begeistert mit seiner exponierten Lage und der mittelalterlichen Stadtanlage. Die erodierten Granitfelsen am Capo Testa ganz im Norden ist eine der spektakulärsten Felsenlandschaften Sardiniens\, skurrile Formen beflügeln die Fantasie.\nEchtes Karibikfeeling haben wir auf einer Bootstour durch das Inselarchipel Maddalena. Hier sind die Strände noch weißer\, das Wasser noch türkiser\, da wünscht man sich nur noch die Palmen. Herausfordernd ist eine Paddeltour entlang der Ostküste unterhalb der steilen Felsen im Golf von Orosei. Riesige Karsthöhlen und der sichelförmige Strand der bezaubernden Cala Luna begeistern uns. Bei einer Wanderung auf dem Tafelberg der Gesturi sehen wir die letzten wildlebenden Pferde einer alten sardischen Rasse. Im UNESCO Weltkulturerbe Su Nuraxi tauchen wir ein in die Geschichte der Nuraghenkultur. Die kegelförmigen Festungstürme sind die Wahrzeichen Sardiniens. Nirgends auf der Welt gibt es Vergleichbares! \nDer Trailer zu Sardinien  \nDie Tickets sind erhältlich über die Touristinfo Radolfzell\, den Südkurier\, an der Abendkasse (eine Stunde vor Beginn) und über \nTicketlink \nBild: Michael Fleck
URL:https://milchwerk-radolfzell.de/event/sardinien-trauminsel-mit-karibikfeeling/
LOCATION:Milchwerk Radolfzell\, Werner-Messmer-Straße 14\, Radolfzell\, 78315\, Deutschland
CATEGORIES:Allgemein,Vortrag
ATTACH;FMTTYPE=image/jpeg:https://milchwerk-radolfzell.de/wp-content/uploads/2025/09/Titelbild-Sardinien.jpg
ORGANIZER;CN="Michael Fleck":MAILTO:michael-fleck@t-online.de
END:VEVENT
BEGIN:VEVENT
DTSTART;TZID=Europe/Berlin:20251228T180000
DTEND;TZID=Europe/Berlin:20251228T200000
DTSTAMP:20260424T145059
CREATED:20250902T102351Z
LAST-MODIFIED:20251117T074914Z
UID:10000406-1766944800-1766952000@milchwerk-radolfzell.de
SUMMARY:CORNWALL – Englands spektakuläre Südküste
DESCRIPTION:LIVE-Panorama-Show von Michael Fleck \nSchon auf dem Weg nach Cornwall ist man begeistert von der Schönheit und Vielfalt der südenglischen Landschaft. Zwischen Stonehenge und Lands End in Cornwall liegen die Grafschaften Hampshire\, Wiltshire\, Somerset\, Dorset und Devon\, die mit grandioser Natur\, spektakulären Bauwerken und einer reichen Historie sehr viel zu bieten haben. Da sind die Weltkulturerbestätten der Jungsteinzeit\, die eine besondere Mystik ausstrahlen oder die UNESCO Stadt Bath mit ihrer herausragenden Architektur.\nFast schon mediterranes Klima erwartet einem in Cornwall mit Palmen an den Promenaden und idyllischen B&B`s\, die zur Übernachtung einladen. Von den dramatischen Klippen der Küste bis zu den goldenen Sandstränden und den dunklen Mooren ist die Landschaft hier atemberaubend schön. Bei Wanderungen entlang der Küstenwege sind es immer wieder die kleinen Buchten und pittoresken Häfen\, die ein einzigartiges Flair haben.\nSie werden sehen\, wie in Cheddar der Käse produziert wird oder im Dart Moor der Whiskey und auf der Royal Cornwall Show erleben Sie die Prämierung seltener Nutztierrassen. Wir erkunden auch die Geschichte Cornwalls\, angefangen bei den legendären Königen und Mythen\, bis hin zu den Spuren der Bergbauindustrie\, die die Region mitgeprägt hat. Natürlich dürfen bei einer Reise durch Cornwall nicht die wunderschönen Landschaftsgärten fehlen. Dschungelfeeling ist in einigen garantiert!\nImmer auf der Jagd nach dem besten Licht hat der renommierte Fotograf und Abenteurer Michael Fleck ein zauberhaftes Portraits Südenglands geschaffen. Mit vielen Drohnenflügen ergeben sich sensationelle Blickwinkel\, die Sie begeistern werden.\nEgal ob Sie ein Naturliebhaber\, Kulturfan oder Abenteurer sind – in Cornwall und Englands Süden gibt es für jeden etwas zu entdecken! \nDer Trailer zu Cornwall  \nDie Tickets sind erhältlich über die Touristinfo Radolfzell\, den Südkurier\, an der Abendkasse (eine Stunde vor Beginn) und über \nTicketlink \nEinlass 19:30 Uhr – Genießen Sie schon vor der Veranstaltung gerne ein Getränk an unserer Milchbar! \nBild: Michael Fleck
URL:https://milchwerk-radolfzell.de/event/cornwall-englands-spektakulaere-suedkueste/
LOCATION:Milchwerk Radolfzell\, Werner-Messmer-Straße 14\, Radolfzell\, 78315\, Deutschland
CATEGORIES:Allgemein,Vortrag
ATTACH;FMTTYPE=image/jpeg:https://milchwerk-radolfzell.de/wp-content/uploads/2025/09/Plakat-Cornwall.jpg
ORGANIZER;CN="Michael Fleck":MAILTO:michael-fleck@t-online.de
END:VEVENT
END:VCALENDAR