BEGIN:VCALENDAR
VERSION:2.0
PRODID:-//Milchwerk Radolfzell - ECPv6.15.18//NONSGML v1.0//EN
CALSCALE:GREGORIAN
METHOD:PUBLISH
X-WR-CALNAME:Milchwerk Radolfzell
X-ORIGINAL-URL:https://milchwerk-radolfzell.de
X-WR-CALDESC:Veranstaltungen für Milchwerk Radolfzell
REFRESH-INTERVAL;VALUE=DURATION:PT1H
X-Robots-Tag:noindex
X-PUBLISHED-TTL:PT1H
BEGIN:VTIMEZONE
TZID:Europe/Berlin
BEGIN:DAYLIGHT
TZOFFSETFROM:+0100
TZOFFSETTO:+0200
TZNAME:CEST
DTSTART:20240331T010000
END:DAYLIGHT
BEGIN:STANDARD
TZOFFSETFROM:+0200
TZOFFSETTO:+0100
TZNAME:CET
DTSTART:20241027T010000
END:STANDARD
BEGIN:DAYLIGHT
TZOFFSETFROM:+0100
TZOFFSETTO:+0200
TZNAME:CEST
DTSTART:20250330T010000
END:DAYLIGHT
BEGIN:STANDARD
TZOFFSETFROM:+0200
TZOFFSETTO:+0100
TZNAME:CET
DTSTART:20251026T010000
END:STANDARD
BEGIN:DAYLIGHT
TZOFFSETFROM:+0100
TZOFFSETTO:+0200
TZNAME:CEST
DTSTART:20260329T010000
END:DAYLIGHT
BEGIN:STANDARD
TZOFFSETFROM:+0200
TZOFFSETTO:+0100
TZNAME:CET
DTSTART:20261025T010000
END:STANDARD
END:VTIMEZONE
BEGIN:VEVENT
DTSTART;TZID=Europe/Berlin:20251025T100000
DTEND;TZID=Europe/Berlin:20251026T180000
DTSTAMP:20260422T121505
CREATED:20251009T074519Z
LAST-MODIFIED:20251009T074519Z
UID:10000425-1761386400-1761501600@milchwerk-radolfzell.de
SUMMARY:Lebensfreude Messe | Erlebe - Heile - Strahle
DESCRIPTION:Herzlich willkommen zur Lebensfreude Messe Radolfzell 2025\n\n\nEin Wochenende für Körper\, Geist und Seele mit vielen magischen Momenten. Willkommen zur 2. Lebensfreude Messe am Bodensee in Radolfzell! \n\nFreue dich auf ein Wochenende voller Inspiration\, Achtsamkeit und innerem Wachstum in der malerischen Kulisse von Radolfzell am Bodensee. Der Bodensee bleibt\, die Location ist NEU. Das Milchwerk der perfekte Ausstellungsort die Lebensfreude Messe.\nVom 25. bis 26. Oktober 2025 lädt die Lebensfreude Messe dich ein\, Neues für Körper\, Geist und Seele zu entdecken und dich von über 60 Ausstellern und zahlreichen Workshops und Vorträgen inspirieren zu lassen. \nErlebe vielfältige Themen\, die von Gesundheit und ganzheitlichem Wohlbefinden über spirituelle Praktiken bis hin zu nachhaltigem Leben reichen. Hier kannst du tief eintauchen\, neue Wege entdecken und dich mit Gleichgesinnten austauschen. Egal\, ob du bereits vertraut mit diesen Themen bist oder einfach neugierig – die Lebensfreude Messe in Radolfzell bietet dir Raum\, um deine Lebensqualität zu steigern und frische Energie in deinen Alltag zu bringen. \nLass dich inspirieren und genieße die besondere Atmosphäre am Bodensee. \n\nTicketlink \n\n 
URL:https://milchwerk-radolfzell.de/event/lebensfreude-messe-erlebe-heile-strahle/
LOCATION:Milchwerk Radolfzell\, Werner-Messmer-Straße 14\, Radolfzell\, 78315\, Deutschland
CATEGORIES:Messe
ATTACH;FMTTYPE=image/png:https://milchwerk-radolfzell.de/wp-content/uploads/2025/10/Banner-Quer-Wir-sind-dabei-2.png
ORGANIZER;CN="Lebensfreude Messen und Event UG":MAILTO:info@lebensfreudemessen.de
END:VEVENT
END:VCALENDAR