BEGIN:VCALENDAR
VERSION:2.0
PRODID:-//Milchwerk Radolfzell - ECPv6.15.18//NONSGML v1.0//EN
CALSCALE:GREGORIAN
METHOD:PUBLISH
X-WR-CALNAME:Milchwerk Radolfzell
X-ORIGINAL-URL:https://milchwerk-radolfzell.de
X-WR-CALDESC:Veranstaltungen für Milchwerk Radolfzell
REFRESH-INTERVAL;VALUE=DURATION:PT1H
X-Robots-Tag:noindex
X-PUBLISHED-TTL:PT1H
BEGIN:VTIMEZONE
TZID:Europe/Berlin
BEGIN:DAYLIGHT
TZOFFSETFROM:+0100
TZOFFSETTO:+0200
TZNAME:CEST
DTSTART:20250330T010000
END:DAYLIGHT
BEGIN:STANDARD
TZOFFSETFROM:+0200
TZOFFSETTO:+0100
TZNAME:CET
DTSTART:20251026T010000
END:STANDARD
BEGIN:DAYLIGHT
TZOFFSETFROM:+0100
TZOFFSETTO:+0200
TZNAME:CEST
DTSTART:20260329T010000
END:DAYLIGHT
BEGIN:STANDARD
TZOFFSETFROM:+0200
TZOFFSETTO:+0100
TZNAME:CET
DTSTART:20261025T010000
END:STANDARD
BEGIN:DAYLIGHT
TZOFFSETFROM:+0100
TZOFFSETTO:+0200
TZNAME:CEST
DTSTART:20270328T010000
END:DAYLIGHT
BEGIN:STANDARD
TZOFFSETFROM:+0200
TZOFFSETTO:+0100
TZNAME:CET
DTSTART:20271031T010000
END:STANDARD
END:VTIMEZONE
BEGIN:VEVENT
DTSTART;TZID=Europe/Berlin:20260221T100000
DTEND;TZID=Europe/Berlin:20260221T163000
DTSTAMP:20260424T061207
CREATED:20260116T121039Z
LAST-MODIFIED:20260210T125409Z
UID:10000469-1771668000-1771691400@milchwerk-radolfzell.de
SUMMARY:Kunstsprechstunde
DESCRIPTION:Kostenfreie Kunst- und Schmuckbewertung – Veranstaltung nach dem Prinzip von \,\,Bares für Rares“ \nKunstinteressierte\, Sammler und Neugierige dürfen sich freuen: Am 21. Februar 2026 findet ab 10:00 Uhr eine kostenfreie Wertschätzungs­veranstaltung im Milchwerk in Radolfzell am Bodensee statt. Bewertet werden Kleinkunst (Bilder\, Skulpturen)\, Uhren\, Münzen\, Teppiche\, Schmuck und vieles mehr – ganz nach dem beliebten Prinzip der TV­ Sendung\, Bares für Rares“. \nDie Teilnehmerinnen und Teil­nehmer haben die Möglichkeit\, ihre mitgebrachten Gegenstände kostenlos schätzen zu lassen – egal\, wie viele Stücke sie mitbringen. Wer möchte\, kann seine Schätze auch direkt vor Ort verkaufen. \nDas erfahrene Expertenteam um den Herrn Bamberger\, Art Galerie Bamberger aus Baden-Baden\, ist seit den 1970er Jahren über vier Generationen hinweg in der Kunst- und Schmuckbranche tätig und bringt somit fundiertes Fachwissen und ein geschultes Auge mit. Die beliebten Kunstsprechstunden werden bereits seit acht Jahren bundesweit erfolgreich durchgeführt und erfreuen sich großer Beliebtheit. lnteressierte sind herzlich eingeladen\, vorbeizukommen und sich kostenfrei beraten zu lassen. \nEine Anmeldung unter 07221 – 276 3356 ist empfohlen\, aber nicht erforderlich und Sie können gerne auch spontan vorbeischauen. Der Zugang erfolgt über den Seiteneingang! \nBildrechte: Art Galerie Bamberger \n 
URL:https://milchwerk-radolfzell.de/event/kunstsprechstunde/
LOCATION:Milchwerk Radolfzell\, Werner-Messmer-Straße 14\, Radolfzell\, 78315\, Deutschland
CATEGORIES:Allgemein
ATTACH;FMTTYPE=image/jpeg:https://milchwerk-radolfzell.de/wp-content/uploads/2026/01/Plakat-Bamberger.jpeg
END:VEVENT
END:VCALENDAR